BEGIN:VCALENDAR
VERSION:2.0
PRODID:-//Paladin Point of Sale - ECPv6.15.17.1//NONSGML v1.0//EN
CALSCALE:GREGORIAN
METHOD:PUBLISH
X-ORIGINAL-URL:https://paladinpointofsale.com
X-WR-CALDESC:Events for Paladin Point of Sale
REFRESH-INTERVAL;VALUE=DURATION:PT1H
X-Robots-Tag:noindex
X-PUBLISHED-TTL:PT1H
BEGIN:VTIMEZONE
TZID:America/Vancouver
BEGIN:DAYLIGHT
TZOFFSETFROM:-0800
TZOFFSETTO:-0700
TZNAME:PDT
DTSTART:20240310T100000
END:DAYLIGHT
BEGIN:STANDARD
TZOFFSETFROM:-0700
TZOFFSETTO:-0800
TZNAME:PST
DTSTART:20241103T090000
END:STANDARD
BEGIN:DAYLIGHT
TZOFFSETFROM:-0800
TZOFFSETTO:-0700
TZNAME:PDT
DTSTART:20250309T100000
END:DAYLIGHT
BEGIN:STANDARD
TZOFFSETFROM:-0700
TZOFFSETTO:-0800
TZNAME:PST
DTSTART:20251102T090000
END:STANDARD
BEGIN:DAYLIGHT
TZOFFSETFROM:-0800
TZOFFSETTO:-0700
TZNAME:PDT
DTSTART:20260308T100000
END:DAYLIGHT
BEGIN:STANDARD
TZOFFSETFROM:-0700
TZOFFSETTO:-0800
TZNAME:PST
DTSTART:20261101T090000
END:STANDARD
END:VTIMEZONE
BEGIN:VEVENT
DTSTART;TZID=America/Vancouver:20250220T080000
DTEND;TZID=America/Vancouver:20250222T170000
DTSTAMP:20260425T071257
CREATED:20241002T222739Z
LAST-MODIFIED:20241002T222753Z
UID:20267-1740038400-1740243600@paladinpointofsale.com
SUMMARY:Orgill Spring Dealer Market
DESCRIPTION:
URL:https://paladinpointofsale.com/event/orgill-spring-dealer-market-2/
LOCATION:Ernest N. Morial Convention Center\, 900 Convention Center Blvd\, New Orleans\, LA\, 70130\, United States
CATEGORIES:Dealer Market
END:VEVENT
END:VCALENDAR